BEGIN:VCALENDAR
VERSION:2.0
PRODID:-//FC Bayern-Fans Friesen 1971 - ECPv6.15.20//NONSGML v1.0//EN
CALSCALE:GREGORIAN
METHOD:PUBLISH
X-WR-CALNAME:FC Bayern-Fans Friesen 1971
X-ORIGINAL-URL:https://bayern-fans-friesen.de
X-WR-CALDESC:Veranstaltungen für FC Bayern-Fans Friesen 1971
REFRESH-INTERVAL;VALUE=DURATION:PT1H
X-Robots-Tag:noindex
X-PUBLISHED-TTL:PT1H
BEGIN:VTIMEZONE
TZID:Europe/Paris
BEGIN:DAYLIGHT
TZOFFSETFROM:+0100
TZOFFSETTO:+0200
TZNAME:CEST
DTSTART:20240331T010000
END:DAYLIGHT
BEGIN:STANDARD
TZOFFSETFROM:+0200
TZOFFSETTO:+0100
TZNAME:CET
DTSTART:20241027T010000
END:STANDARD
BEGIN:DAYLIGHT
TZOFFSETFROM:+0100
TZOFFSETTO:+0200
TZNAME:CEST
DTSTART:20250330T010000
END:DAYLIGHT
BEGIN:STANDARD
TZOFFSETFROM:+0200
TZOFFSETTO:+0100
TZNAME:CET
DTSTART:20251026T010000
END:STANDARD
BEGIN:DAYLIGHT
TZOFFSETFROM:+0100
TZOFFSETTO:+0200
TZNAME:CEST
DTSTART:20260329T010000
END:DAYLIGHT
BEGIN:STANDARD
TZOFFSETFROM:+0200
TZOFFSETTO:+0100
TZNAME:CET
DTSTART:20261025T010000
END:STANDARD
END:VTIMEZONE
BEGIN:VEVENT
DTSTART;TZID=Europe/Paris:20251220T120000
DTEND;TZID=Europe/Paris:20251220T200000
DTSTAMP:20260421T165553
CREATED:20250910T080407Z
LAST-MODIFIED:20250923T075906Z
UID:3089-1766232000-1766260800@bayern-fans-friesen.de
SUMMARY:Weihnachtsmarktfahrt
DESCRIPTION:
URL:https://bayern-fans-friesen.de/event/weihnachtsmarktfahrt/
LOCATION:Rothenburg ob der Tauber\, 91541\, Germany
ATTACH;FMTTYPE=image/png:https://bayern-fans-friesen.de/wp-content/uploads/2025/09/weihnachtsmarkt_rothenburg.png
END:VEVENT
END:VCALENDAR