BEGIN:VCALENDAR
VERSION:2.0
PRODID:-//FC Bayern-Fans Friesen 1971 - ECPv6.15.20//NONSGML v1.0//EN
CALSCALE:GREGORIAN
METHOD:PUBLISH
X-ORIGINAL-URL:https://bayern-fans-friesen.de
X-WR-CALDESC:Veranstaltungen für FC Bayern-Fans Friesen 1971
REFRESH-INTERVAL;VALUE=DURATION:PT1H
X-Robots-Tag:noindex
X-PUBLISHED-TTL:PT1H
BEGIN:VTIMEZONE
TZID:Europe/Paris
BEGIN:DAYLIGHT
TZOFFSETFROM:+0100
TZOFFSETTO:+0200
TZNAME:CEST
DTSTART:20240331T010000
END:DAYLIGHT
BEGIN:STANDARD
TZOFFSETFROM:+0200
TZOFFSETTO:+0100
TZNAME:CET
DTSTART:20241027T010000
END:STANDARD
BEGIN:DAYLIGHT
TZOFFSETFROM:+0100
TZOFFSETTO:+0200
TZNAME:CEST
DTSTART:20250330T010000
END:DAYLIGHT
BEGIN:STANDARD
TZOFFSETFROM:+0200
TZOFFSETTO:+0100
TZNAME:CET
DTSTART:20251026T010000
END:STANDARD
BEGIN:DAYLIGHT
TZOFFSETFROM:+0100
TZOFFSETTO:+0200
TZNAME:CEST
DTSTART:20260329T010000
END:DAYLIGHT
BEGIN:STANDARD
TZOFFSETFROM:+0200
TZOFFSETTO:+0100
TZNAME:CET
DTSTART:20261025T010000
END:STANDARD
END:VTIMEZONE
BEGIN:VEVENT
DTSTART;TZID=Europe/Paris:20250926T140000
DTEND;TZID=Europe/Paris:20250927T030000
DTSTAMP:20260421T133701
CREATED:20250910T080219Z
LAST-MODIFIED:20250910T080219Z
UID:3087-1758895200-1758942000@bayern-fans-friesen.de
SUMMARY:Bremenfahrt
DESCRIPTION:
URL:https://bayern-fans-friesen.de/event/bremenfahrt/
LOCATION:Allianz Arena München\, Werner-Heisenberg-Allee 25\, München\, 80939\, Germany
END:VEVENT
END:VCALENDAR